BEGIN:VCALENDAR
VERSION:2.0
PRODID:icalendar-ruby
CALSCALE:GREGORIAN
METHOD:PUBLISH
BEGIN:VEVENT
DTSTAMP:20260425T200400Z
UID:7-473847@4c4christ.org
DTSTART:20260930T230000Z
DTEND:20261001T000000Z
CLASS:PUBLIC
CREATED:20260425T122643
DESCRIPTION:Join us for our weekly Pot Luck Dinner and Fellowship\n 
LAST-MODIFIED:20260425T122643
LOCATION:
SUMMARY:Pot Luck Dinner
URL;VALUE=URI:https://www.4c4christ.org/events/pot-luck-dinner/2026-09-30
ATTACH;FILENAME=pot-luck.jpg;FMTTYPE=image/jpeg:https://dq5pwpg1q8ru0.cloud
 front.net/2024/07/16/17/25/42/8a051586-a119-47d6-97dd-73e2e104b0f2/pot-luc
 k.jpg
END:VEVENT
END:VCALENDAR
